BEGIN:VCALENDAR
VERSION:2.0
PRODID:-//North Carolina Serious Illness Coalition - ECPv6.8.3//NONSGML v1.0//EN
CALSCALE:GREGORIAN
METHOD:PUBLISH
X-WR-CALNAME:North Carolina Serious Illness Coalition
X-ORIGINAL-URL:https://www.ncsicoalition.org
X-WR-CALDESC:Events for North Carolina Serious Illness Coalition
REFRESH-INTERVAL;VALUE=DURATION:PT1H
X-Robots-Tag:noindex
X-PUBLISHED-TTL:PT1H
BEGIN:VTIMEZONE
TZID:America/New_York
BEGIN:DAYLIGHT
TZOFFSETFROM:-0500
TZOFFSETTO:-0400
TZNAME:EDT
DTSTART:20220313T070000
END:DAYLIGHT
BEGIN:STANDARD
TZOFFSETFROM:-0400
TZOFFSETTO:-0500
TZNAME:EST
DTSTART:20221106T060000
END:STANDARD
END:VTIMEZONE
BEGIN:VEVENT
DTSTART;TZID=America/New_York:20220923T083000
DTEND;TZID=America/New_York:20220923T090000
DTSTAMP:20260424T162057
CREATED:20220919T153956Z
LAST-MODIFIED:20220919T161921Z
UID:10000614-1663921800-1663923600@www.ncsicoalition.org
SUMMARY:Friday Facts: DeLon Canterbury
DESCRIPTION:DeLon is a Board-Certified Geriatric Pharmacist.  He is the Founder\, President\, and CEO of GeriatRx\, a telehealth-based senior care consulting company.  GeriatRx combines Pharmacogenomic testing and Comprehensive Medication Management. He addresses the social determinants of health. He helps reduce medication errors and advocates for de-prescribing. Dr. DeLon helps improve patient safety and saves patients\, their families\, and the healthcare system money.  He manages patients across the state of North Carolina and demonstrates the value pharmacists add to healthcare delivery. Dr. DeLon is an active Executive Board Member for the African-American Minority COVID Task Force in Durham\, North Carolina\, a Formulary Committee member of Senior PharmAssist at the Durham Senior Center for Life. He served as Community Health Coalition’s Telehealth Director\, helping older African-American patients with wellness and reassurance check-ups during COVID. \nFriday Facts is a short (8:30 – 9:00AM)\, weekly\, news style “show” designed to provide you with the latest updates on a variety of topics and features different guest speakers each week. \nAlthough our work as a Coalition can be formal with legislators\, webinars\, policy changes\, and education\, our work is also about changing the culture of Serious Illness Care. \nRich sharing\, building community\, and creativity comes from these informal conversations that impact more than information\, but also our vulnerabilities as human beings. \nFriday Facts is much about how we relate to one another\, how we operate in our professions\, and helps us strengthen resilience in the work that we do. \n**Friday facts occur every Friday except on Holidays and the 3rd Friday of each month**
URL:https://www.ncsicoalition.org/event/friday-facts-delon-canterbury/
LOCATION:Virtual Event\, United States
CATEGORIES:Friday Facts,Public
ORGANIZER;CN="North Carolina Serious Illness Coalition":MAILTO:info@ncsicoalition.org
END:VEVENT
END:VCALENDAR