BEGIN:VCALENDAR
VERSION:2.0
PRODID:-//North Carolina Serious Illness Coalition - ECPv6.8.3//NONSGML v1.0//EN
CALSCALE:GREGORIAN
METHOD:PUBLISH
X-WR-CALNAME:North Carolina Serious Illness Coalition
X-ORIGINAL-URL:https://www.ncsicoalition.org
X-WR-CALDESC:Events for North Carolina Serious Illness Coalition
REFRESH-INTERVAL;VALUE=DURATION:PT1H
X-Robots-Tag:noindex
X-PUBLISHED-TTL:PT1H
BEGIN:VTIMEZONE
TZID:America/New_York
BEGIN:DAYLIGHT
TZOFFSETFROM:-0500
TZOFFSETTO:-0400
TZNAME:EDT
DTSTART:20200308T070000
END:DAYLIGHT
BEGIN:STANDARD
TZOFFSETFROM:-0400
TZOFFSETTO:-0500
TZNAME:EST
DTSTART:20201101T060000
END:STANDARD
BEGIN:DAYLIGHT
TZOFFSETFROM:-0500
TZOFFSETTO:-0400
TZNAME:EDT
DTSTART:20210314T070000
END:DAYLIGHT
BEGIN:STANDARD
TZOFFSETFROM:-0400
TZOFFSETTO:-0500
TZNAME:EST
DTSTART:20211107T060000
END:STANDARD
END:VTIMEZONE
BEGIN:VEVENT
DTSTART;TZID=America/New_York:20210226T120000
DTEND;TZID=America/New_York:20210226T130000
DTSTAMP:20260420T213203
CREATED:20210211T192711Z
LAST-MODIFIED:20210211T195319Z
UID:10000607-1614340800-1614344400@www.ncsicoalition.org
SUMMARY:NCSI Clinical Practice Forum: The Role of the Health Information Exchange (HIE) in Supporting Interoperability\, Patient Access and Quality Data Registries
DESCRIPTION:The North Carolina Serious Illness Coalition Clinical Practice Work Group presents their 3rd Clinical Practice Forum: The Role of the Health Information Exchange (HIE) in Supporting Interoperability\, Patient Access and Quality Data Registries/Reporting. Featuring Christie Burris\, Executive Director of the Health Information Exchange Authority. \nClick here to register: NCSI Clinical Practice Forum #3
URL:https://www.ncsicoalition.org/event/ncsi-clinical-practice-forum-the-role-of-the-health-information-exchange-hie-in-supporting-interoperability-patient-access-and-quality-data-registries-reporting/
ORGANIZER;CN="North Carolina Serious Illness Coalition":MAILTO:info@ncsicoalition.org
END:VEVENT
BEGIN:VEVENT
DTSTART;TZID=America/New_York:20210122T083000
DTEND;TZID=America/New_York:20210122T090000
DTSTAMP:20260420T213203
CREATED:20210106T162919Z
LAST-MODIFIED:20210322T204438Z
UID:10000606-1611304200-1611306000@www.ncsicoalition.org
SUMMARY:No Friday Facts
DESCRIPTION:Friday Facts will not occur on the 3rd Friday of each month. See you at the full Coalition meeting!
URL:https://www.ncsicoalition.org/event/friday-facts-3-2021-01-22/
CATEGORIES:Friday Facts,Public
ATTACH;FMTTYPE=image/png:https://www.ncsicoalition.org/wp-content/uploads/Screen-Shot-2020-08-11-at-9.54.20-AM-e1609950091400.png
ORGANIZER;CN="North Carolina Serious Illness Coalition":MAILTO:info@ncsicoalition.org
END:VEVENT
BEGIN:VEVENT
DTSTART;TZID=America/New_York:20201225T083000
DTEND;TZID=America/New_York:20201225T090000
DTSTAMP:20260420T213203
CREATED:20200831T153031Z
LAST-MODIFIED:20210322T204438Z
UID:10000596-1608885000-1608886800@www.ncsicoalition.org
SUMMARY:No Friday Facts (Holiday)
DESCRIPTION:  \n  \n 
URL:https://www.ncsicoalition.org/event/friday-facts-2020-12-25/
CATEGORIES:Friday Facts,Public
ATTACH;FMTTYPE=image/png:https://www.ncsicoalition.org/wp-content/uploads/Screen-Shot-2020-08-11-at-9.54.20-AM-e1609950091400.png
ORGANIZER;CN="North Carolina Serious Illness Coalition":MAILTO:info@ncsicoalition.org
END:VEVENT
BEGIN:VEVENT
DTSTART;TZID=America/New_York:20201218T083000
DTEND;TZID=America/New_York:20201218T090000
DTSTAMP:20260420T213203
CREATED:20200831T153031Z
LAST-MODIFIED:20210322T204439Z
UID:10000595-1608280200-1608282000@www.ncsicoalition.org
SUMMARY:No Friday Facts
DESCRIPTION:There will be no Friday Facts on the 3rd Friday of each month due to the Full Coalition meeting taking place. \n  \n 
URL:https://www.ncsicoalition.org/event/friday-facts-2020-12-18/
CATEGORIES:Friday Facts,Public
ATTACH;FMTTYPE=image/png:https://www.ncsicoalition.org/wp-content/uploads/Screen-Shot-2020-08-11-at-9.54.20-AM-e1609950091400.png
ORGANIZER;CN="North Carolina Serious Illness Coalition":MAILTO:info@ncsicoalition.org
END:VEVENT
BEGIN:VEVENT
DTSTART;TZID=America/New_York:20201127T083000
DTEND;TZID=America/New_York:20201127T090000
DTSTAMP:20260420T213203
CREATED:20200831T153031Z
LAST-MODIFIED:20210322T204523Z
UID:10000594-1606465800-1606467600@www.ncsicoalition.org
SUMMARY:No Friday Facts: (Holiday)
DESCRIPTION:A very short (8:30 – 8:45AM) news style “show” we’ve established each Friday to give you the latest updates. \n  \nThere will be no Friday Facts on the 3rd Friday of each month due to the Full Coalition meeting taking place. \n  \n 
URL:https://www.ncsicoalition.org/event/friday-facts-2020-11-27/
CATEGORIES:Friday Facts,Public
ATTACH;FMTTYPE=image/png:https://www.ncsicoalition.org/wp-content/uploads/Screen-Shot-2020-08-11-at-9.54.20-AM-e1609950091400.png
ORGANIZER;CN="North Carolina Serious Illness Coalition":MAILTO:info@ncsicoalition.org
END:VEVENT
BEGIN:VEVENT
DTSTART;TZID=America/New_York:20201120T083000
DTEND;TZID=America/New_York:20201120T093000
DTSTAMP:20260420T213203
CREATED:20201025T230645Z
LAST-MODIFIED:20210322T204438Z
UID:10000600-1605861000-1605864600@www.ncsicoalition.org
SUMMARY:No Friday Facts
DESCRIPTION:There will be no Friday Facts on the 3rd Friday of each month due to the Full Coalition meeting taking place.
URL:https://www.ncsicoalition.org/event/no-friday-facts/
CATEGORIES:Friday Facts,Public
ORGANIZER;CN="North Carolina Serious Illness Coalition":MAILTO:info@ncsicoalition.org
END:VEVENT
BEGIN:VEVENT
DTSTART;TZID=America/New_York:20201113T120000
DTEND;TZID=America/New_York:20201113T130000
DTSTAMP:20260420T213203
CREATED:20201106T135455Z
LAST-MODIFIED:20201106T144523Z
UID:10000605-1605268800-1605272400@www.ncsicoalition.org
SUMMARY:Intro to Data Analytics in Serious Illness (NCSI Coalition's Clinical Practice Series)
DESCRIPTION:Predictive analytics in healthcare uses historical data to make predictions about the future\, thereby personalizing care options for individuals. A person’s past medical history\, demographic information and behaviors can be used in conjunction with a provider’s expertise and experience to predict the future.  \nWith advanced analytics built on emerging technologies\, healthcare providers can securely connect and collaborate with multiple disciplines within the care team to provide appropriate and timely services to their shared patient population while meeting the requirements of value-based care. \nDate: November 13th from 12-1 \nThe next Forum will take place on January 15th  \nHosted by: The North Carolina Serious Illness Coalition Clinical Practice Work Group \nModerator: Arif H. Kamal\, MD\, MBA\, MHS \nPanelists: Acclivity Health & Cyft \nRegister at the link or type the URL: http://bit.ly/forum2020-11-13 \n  \n\nSave the date for our next forum on January 15\, 12-1PM.
URL:https://www.ncsicoalition.org/event/intro-to-data-analytics-in-serious-illness/
CATEGORIES:Public
ATTACH;FMTTYPE=image/png:https://www.ncsicoalition.org/wp-content/uploads/ncsic-forum-2020-11-flyer-V3-fb.png
ORGANIZER;CN="North Carolina Serious Illness Coalition":MAILTO:info@ncsicoalition.org
END:VEVENT
BEGIN:VEVENT
DTSTART;TZID=America/New_York:20201102T120000
DTEND;TZID=America/New_York:20201102T143000
DTSTAMP:20260420T213203
CREATED:20201026T131709Z
LAST-MODIFIED:20201026T131709Z
UID:10000603-1604318400-1604327400@www.ncsicoalition.org
SUMMARY:NASEM Advance Care Planning: Challenges and Opportunities: Second Webinar
DESCRIPTION:The virtual public workshop will provide a venue to explore the challenges and opportunities of advance care planning\, acknowledge and highlight divergent viewpoints\, and examine what is empirically known and not known about advance care planning and its outcomes. The workshop will identify areas where more data and research are needed to fill evidentiary gaps\, as well as identify potential approaches to improve the practice of advance care planning (ACP). \nThe workshop will be held over two webinars on October 26\, 2020 and November 2\, 2020.
URL:https://www.ncsicoalition.org/event/nasem-advance-care-planning-challenges-and-opportunities-second-webinar/
ORGANIZER;CN="North Carolina Serious Illness Coalition":MAILTO:info@ncsicoalition.org
END:VEVENT
BEGIN:VEVENT
DTSTART;TZID=America/New_York:20201028T100000
DTEND;TZID=America/New_York:20201028T110000
DTSTAMP:20260420T213203
CREATED:20201025T231059Z
LAST-MODIFIED:20201025T231059Z
UID:10000601-1603879200-1603882800@www.ncsicoalition.org
SUMMARY:Video Conversation: Palliative Care and Hospice as Healing
DESCRIPTION:Join us for a free video conversation with Dr. Justin Brooten\, Assistant Professor of Gerontology and Geriatric Medicine and Emergency Room Specialist in the Wake Forest Baptist Health system. \nThis is a free event\, but registration is required and participation is limited to the first 100 registrants. This event is provided by the FaithHealth Division of Wake Forest Baptist Health\, including CareNet\, Inc.\, and the Center for Congregational Health. \nDr. Brooten will help us explore the medical specialties of palliative care and hospice; explaining the healing nature of those misunderstood specialties. \n  \nRegister Here: https://events.r20.constantcontact.com/register/eventReg?oeidk=a07ehcfff3ib5595210&oseq=&c=4a9642b0-c3e7-11e3-bdec-d4ae5284205e&ch=4adbb020-c3e7-11e3-bfb3-d4ae5284205e \n 
URL:https://www.ncsicoalition.org/event/video-conversation-palliative-care-and-hospice-as-healing/
ORGANIZER;CN="North Carolina Serious Illness Coalition":MAILTO:info@ncsicoalition.org
END:VEVENT
BEGIN:VEVENT
DTSTART;TZID=America/New_York:20201027T080000
DTEND;TZID=America/New_York:20201030T170000
DTSTAMP:20260420T213203
CREATED:20201027T183432Z
LAST-MODIFIED:20201027T183432Z
UID:10000604-1603785600-1604077200@www.ncsicoalition.org
SUMMARY:C-TAC Summit
DESCRIPTION:The COVID-19 pandemic has brought attention to long-standing problems in our healthcare system which keep the most vulnerable among us from receiving high-quality care. \nThe Summit will tackle pressing issues in serious illness care through the lens of health equity.
URL:https://www.ncsicoalition.org/event/c-tac-summit/
ORGANIZER;CN="North Carolina Serious Illness Coalition":MAILTO:info@ncsicoalition.org
END:VEVENT
BEGIN:VEVENT
DTSTART;TZID=America/New_York:20201026T120000
DTEND;TZID=America/New_York:20201026T143000
DTSTAMP:20260420T213203
CREATED:20201026T130841Z
LAST-MODIFIED:20201026T172814Z
UID:10000602-1603713600-1603722600@www.ncsicoalition.org
SUMMARY:NASEM Advance Care Planning: Challenges and Opportunities: First Webinar
DESCRIPTION:The virtual public workshop will provide a venue to explore the challenges and opportunities of advance care planning\, acknowledge and highlight divergent viewpoints\, and examine what is empirically known and not known about advance care planning and its outcomes. The workshop will identify areas where more data and research are needed to fill evidentiary gaps\, as well as identify potential approaches to improve the practice of advance care planning (ACP). \nThe workshop will be held over two webinars on October 26\, 2020 and November 2\, 2020. \nThe first webinar will feature two sessions: \n  \nThe Paradox of ACP \nModerator: \nJoAnne Reifsnyder\, PhD\, MBA\, MSN\, FAAN\, Genesis Healthcare \nSpeakers: \nMaurine Stuart\, Volunteer\, National Patient Advocate Foundation \nWyvonia Woods Harris\, Volunteer\, National Patient Advocate Foundation \nBernard Lo\, MD\, President Emeritus\, The Greenwall Foundation \nRebecca Sudore\, MD\, Professor\, University of California\, San Francisco School of Medicine \n  \nInterpreting the Evidence Base for Advance Care Planning \nModerator: \nSusan E. Hickman\, PhD\, Director\, IU Center for Aging Research\, Regenstrief Institute\, Professor\, Indiana University Schools of Nursing & Medicine\, Cornelius and Yvonne Pettinga Chair in Aging Research\, Co-Director\, IUPUI RESPECT Signature Center \nSpeakers: \nDaren Heyland\, MD\, MSc\, FRCPC\, Professor\, Internal Medicine\, Critical Care\, Queen’s University School of Medicine \nSean Morrison\, MD\, Ellen and Howard C. Katz Professor and Chair\, Brookdale Department of Geriatrics and Palliative Medicine\, Director\, National Palliative Care Research Center\, Icahn School of Medicine at Mount Sinai \nPatricia Bomba\, MD\, MACP\, FRCP\, Vice President & Medical Director\, Geriatrics\, Excellus BlueCross BlueShield \nCarole Montgomery\, MD\, FHM\, MHSA\, Executive Medical Director\, Respecting Choices
URL:https://www.ncsicoalition.org/event/advance-care-planning-challenges-and-opportunities-first-webinar/
ORGANIZER;CN="North Carolina Serious Illness Coalition":MAILTO:info@ncsicoalition.org
END:VEVENT
BEGIN:VEVENT
DTSTART;TZID=America/New_York:20201009T120000
DTEND;TZID=America/New_York:20201009T130000
DTSTAMP:20260420T213203
CREATED:20200924T160940Z
LAST-MODIFIED:20200924T161113Z
UID:10000599-1602244800-1602248400@www.ncsicoalition.org
SUMMARY:Candidate Conversations: North Carolina District 6
DESCRIPTION:Join us for this free\, virtual event to learn what the US Congressional candidates to represent North Carolina’s District 6 believe about a number of critical healthcare issues facing our state and the nation.\nThe NC Serious Illness Coalition and AARP-NC are joining forces to pose some provocative health-related questions to each candidate in order to learn more about their views during informal conversations with Coalition co-founder David Sevier. Each candidate will share their vision for policies and practices that impact the lives of North Carolinians in 20 minute conversations.\nCandidates for this event include: \n\nLee Haywood (R)\nKathy Manning (D)\n\nTo receive a log-on to participate in the October 9 event\, request it going to https://aarp.cvent.com/NC6.\n\n\nNCSI Coalition and AARP are non-partisan and do not endorse candidates. 
URL:https://www.ncsicoalition.org/event/candidate-conversations-north-carolina-district-6/
CATEGORIES:Public
ATTACH;FMTTYPE=image/png:https://www.ncsicoalition.org/wp-content/uploads/ncsic-candidate-oct9-blog.png
ORGANIZER;CN="North Carolina Serious Illness Coalition":MAILTO:info@ncsicoalition.org
END:VEVENT
BEGIN:VEVENT
DTSTART;TZID=America/New_York:20201002T120000
DTEND;TZID=America/New_York:20201002T130000
DTSTAMP:20260420T213203
CREATED:20200924T160020Z
LAST-MODIFIED:20200924T160715Z
UID:10000598-1601640000-1601643600@www.ncsicoalition.org
SUMMARY:Candidate Conversations: North Carolina District 2
DESCRIPTION:Join us for this free\, virtual event to learn what the US Congressional candidates to represent North Carolina’s District 2 believe about a number of critical healthcare issues facing our state and the nation.\nThe NC Serious Illness Coalition and AARP-NC are joining forces to pose some provocative health-related questions to each candidate in order to learn more about their views during informal conversations with Coalition co-founder David Sevier. Each candidate will share their vision for policies and practices that impact the lives of North Carolinians in 20 minute conversations.\nCandidates for this event include: \n\nJeff Matemu (L)\nDeborah Ross (D)\nAlain Swain (R)\n\nTo receive a log-on to participate in the October 2 event\, request it going to https://aarp.cvent.com/NC2.\n\n\nNCSI Coalition and AARP are non-partisan and do not endorse candidates. 
URL:https://www.ncsicoalition.org/event/2020-candidate-conversations-north-carolina-district-2/
CATEGORIES:Public
ATTACH;FMTTYPE=image/png:https://www.ncsicoalition.org/wp-content/uploads/ncsic-candidate-oct2-event.png
ORGANIZER;CN="North Carolina Serious Illness Coalition":MAILTO:info@ncsicoalition.org
END:VEVENT
BEGIN:VEVENT
DTSTART;TZID=America/New_York:20200918T100000
DTEND;TZID=America/New_York:20200918T130000
DTSTAMP:20260420T213203
CREATED:20200917T150429Z
LAST-MODIFIED:20200917T150429Z
UID:10000597-1600423200-1600434000@www.ncsicoalition.org
SUMMARY:September NCSI Coalition Meeting
DESCRIPTION:
URL:https://www.ncsicoalition.org/event/september-ncsi-coalition-meeting/
ORGANIZER;CN="North Carolina Serious Illness Coalition":MAILTO:info@ncsicoalition.org
END:VEVENT
BEGIN:VEVENT
DTSTART;TZID=America/New_York:20200831T000000
DTEND;TZID=America/New_York:20200901T000000
DTSTAMP:20260420T213203
CREATED:20200723T003546Z
LAST-MODIFIED:20200723T004222Z
UID:10000588-1598832000-1598918400@www.ncsicoalition.org
SUMMARY:The Carolinas Center 44th Annual “Virtual” Conference  Vision 20/20 Patient Centered Care
DESCRIPTION:
URL:https://www.ncsicoalition.org/event/the-carolinas-center-44th-annual-virtual-conference-vision-20-20-patient-centered-care/
CATEGORIES:Public
ATTACH;FMTTYPE=image/png:https://www.ncsicoalition.org/wp-content/uploads/Screen-Shot-2020-07-22-at-8.40.44-PM-1.png
ORGANIZER;CN="North Carolina Serious Illness Coalition":MAILTO:info@ncsicoalition.org
END:VEVENT
BEGIN:VEVENT
DTSTART;TZID=America/New_York:20200821T100000
DTEND;TZID=America/New_York:20200821T130000
DTSTAMP:20260420T213203
CREATED:20200719T220059Z
LAST-MODIFIED:20200723T005343Z
UID:10000587-1598004000-1598014800@www.ncsicoalition.org
SUMMARY:August NCSI Coalition Meeting
DESCRIPTION:Occurs monthly every third Friday \nZoom Link: Coming Soon! \nAgenda: Coming Soon!
URL:https://www.ncsicoalition.org/event/coalition-members-monthly-meeting/
CATEGORIES:Coalition
END:VEVENT
BEGIN:VEVENT
DTSTART;TZID=America/New_York:20200817T110000
DTEND;TZID=America/New_York:20200817T120000
DTSTAMP:20260420T213203
CREATED:20200814T125316Z
LAST-MODIFIED:20200814T125316Z
UID:10000593-1597662000-1597665600@www.ncsicoalition.org
SUMMARY:AARP Tele-Town Hall: Caring For Someone with COVID-19
DESCRIPTION:Join by using AARP NC Facebook Live (https://www.facebook.com/watch/?v=2399437123692981)
URL:https://www.ncsicoalition.org/event/aarp-tele-town-hall-caring-for-someone-with-covid-19/
ORGANIZER;CN="North Carolina Serious Illness Coalition":MAILTO:info@ncsicoalition.org
END:VEVENT
BEGIN:VEVENT
DTSTART;TZID=America/New_York:20200805T100000
DTEND;TZID=America/New_York:20200805T123000
DTSTAMP:20260420T213203
CREATED:20200803T203119Z
LAST-MODIFIED:20200803T203359Z
UID:10000592-1596621600-1596630600@www.ncsicoalition.org
SUMMARY:Andrea Harris Social\, Economic\, Environmental and Health Equity Task Force
DESCRIPTION:The inaugural Andrea Harris Social\, Economic\, Environmental\, and Health Equity Task Force meeting will be held on Wednesday\, August 5\, 2020 from 10 am – 12:30 pm. If you wish to attend this meeting\, please RSVP by clicking here
URL:https://www.ncsicoalition.org/event/andrea-harris-social-economic-environmental-and-health-equity-task-force/
CATEGORIES:Public
ORGANIZER;CN="North Carolina Serious Illness Coalition":MAILTO:info@ncsicoalition.org
END:VEVENT
BEGIN:VEVENT
DTSTART;TZID=America/New_York:20200804T130000
DTEND;TZID=America/New_York:20200804T140000
DTSTAMP:20260420T213203
CREATED:20200803T200403Z
LAST-MODIFIED:20200803T200403Z
UID:10000591-1596546000-1596549600@www.ncsicoalition.org
SUMMARY:NCCS Web Briefing 2020: State of Cancer Survivorship Survey Results
DESCRIPTION:What are cancer survivors’ top concerns? \nHow well do cancer survivors feel their care teams address their concerns? \nWhat expectations do cancer survivors have of their health care team? \nNCCS conducted the 2020 State of Cancer Survivorship Survey with a broad\, national sample that mirrors the population of cancer survivors in the United States. \nThis survey\, which will be released in a web briefing\, includes new data surrounding cancer patients’ mindsets during and after treatment and important preparation\, experience and needs in post-treatment information and care.\n \nTogether\, we can leverage this data to ensure cancer survivors live well during and after cancer treatment. \nRegister here
URL:https://www.ncsicoalition.org/event/nccs-web-briefing-2020-state-of-cancer-survivorship-survey-results/
CATEGORIES:Public
ORGANIZER;CN="North Carolina Serious Illness Coalition":MAILTO:info@ncsicoalition.org
END:VEVENT
BEGIN:VEVENT
DTSTART;TZID=America/New_York:20200730T150000
DTEND;TZID=America/New_York:20200730T160000
DTSTAMP:20260420T213203
CREATED:20200729T190259Z
LAST-MODIFIED:20200729T190351Z
UID:10000590-1596121200-1596124800@www.ncsicoalition.org
SUMMARY:ACP Webinar Planning Meeting
DESCRIPTION:
URL:https://www.ncsicoalition.org/event/acp-webinar-planning-meeting/
CATEGORIES:Coalition
ORGANIZER;CN="North Carolina Serious Illness Coalition":MAILTO:info@ncsicoalition.org
END:VEVENT
BEGIN:VEVENT
DTSTART;TZID=America/New_York:20200717T100000
DTEND;TZID=America/New_York:20200717T130000
DTSTAMP:20260420T213203
CREATED:20200723T104532Z
LAST-MODIFIED:20200723T104703Z
UID:10000589-1594980000-1594990800@www.ncsicoalition.org
SUMMARY:July NCSI Coalition Meeting
DESCRIPTION:Meeting Summary: Coming Soon!
URL:https://www.ncsicoalition.org/event/july-ncsi-coalition-meeting/
ORGANIZER;CN="North Carolina Serious Illness Coalition":MAILTO:info@ncsicoalition.org
END:VEVENT
END:VCALENDAR