BEGIN:VCALENDAR
VERSION:2.0
PRODID:-//North Carolina Serious Illness Coalition - ECPv6.8.3//NONSGML v1.0//EN
CALSCALE:GREGORIAN
METHOD:PUBLISH
X-WR-CALNAME:North Carolina Serious Illness Coalition
X-ORIGINAL-URL:https://www.ncsicoalition.org
X-WR-CALDESC:Events for North Carolina Serious Illness Coalition
REFRESH-INTERVAL;VALUE=DURATION:PT1H
X-Robots-Tag:noindex
X-PUBLISHED-TTL:PT1H
BEGIN:VTIMEZONE
TZID:America/New_York
BEGIN:DAYLIGHT
TZOFFSETFROM:-0500
TZOFFSETTO:-0400
TZNAME:EDT
DTSTART:20220313T070000
END:DAYLIGHT
BEGIN:STANDARD
TZOFFSETFROM:-0400
TZOFFSETTO:-0500
TZNAME:EST
DTSTART:20221106T060000
END:STANDARD
END:VTIMEZONE
BEGIN:VEVENT
DTSTART;TZID=America/New_York:20221014T083000
DTEND;TZID=America/New_York:20221014T090000
DTSTAMP:20260422T042046
CREATED:20220919T154142Z
LAST-MODIFIED:20221007T024145Z
UID:10000615-1665736200-1665738000@www.ncsicoalition.org
SUMMARY:Friday Facts: Alie Chandler
DESCRIPTION:Alie Chandler shares about their work with Ossia Music Therapy. \nFriday Facts is a short (8:30 – 9:00AM)\, weekly\, news style “show” designed to provide you with the latest updates on a variety of topics and features different guest speakers each week. \nAlthough our work as a Coalition can be formal with legislators\, webinars\, policy changes\, and education\, our work is also about changing the culture of Serious Illness Care. \nRich sharing\, building community\, and creativity comes from these informal conversations that impact more than information\, but also our vulnerabilities as human beings. \nFriday Facts is much about how we relate to one another\, how we operate in our professions\, and helps us strengthen resilience in the work that we do. \n**Friday facts occur every Friday except on Holidays and the 3rd Friday of each month**
URL:https://www.ncsicoalition.org/event/friday-facts-alie-chandler/
LOCATION:Virtual Event\, United States
CATEGORIES:Friday Facts,Public
ORGANIZER;CN="North Carolina Serious Illness Coalition":MAILTO:info@ncsicoalition.org
END:VEVENT
BEGIN:VEVENT
DTSTART;TZID=America/New_York:20221021T110000
DTEND;TZID=America/New_York:20221021T130000
DTSTAMP:20260422T042046
CREATED:20220919T154512Z
LAST-MODIFIED:20221007T022041Z
UID:10000617-1666350000-1666357200@www.ncsicoalition.org
SUMMARY:NCSI Coalition Monthly Meeting (October)
DESCRIPTION:See member only Work Group page for meeting details.
URL:https://www.ncsicoalition.org/event/ncsi-coalition-monthly-meeting-2022-10/
LOCATION:Virtual Event\, United States
CATEGORIES:Public
ORGANIZER;CN="North Carolina Serious Illness Coalition":MAILTO:info@ncsicoalition.org
END:VEVENT
BEGIN:VEVENT
DTSTART;TZID=America/New_York:20221028T083000
DTEND;TZID=America/New_York:20221028T090000
DTSTAMP:20260422T042046
CREATED:20220919T154251Z
LAST-MODIFIED:20221007T024133Z
UID:10000616-1666945800-1666947600@www.ncsicoalition.org
SUMMARY:Friday Facts: Tom Akins
DESCRIPTION:Tom Akins shares about his work with Leading Age NC. \nFriday Facts is a short (8:30 – 9:00AM)\, weekly\, news style “show” designed to provide you with the latest updates on a variety of topics and features different guest speakers each week. \nAlthough our work as a Coalition can be formal with legislators\, webinars\, policy changes\, and education\, our work is also about changing the culture of Serious Illness Care. \nRich sharing\, building community\, and creativity comes from these informal conversations that impact more than information\, but also our vulnerabilities as human beings. \nFriday Facts is much about how we relate to one another\, how we operate in our professions\, and helps us strengthen resilience in the work that we do. \n**Friday facts occur every Friday except on Holidays and the 3rd Friday of each month**
URL:https://www.ncsicoalition.org/event/friday-facts-tom-akins/
LOCATION:Virtual Event\, United States
CATEGORIES:Friday Facts,Public
ORGANIZER;CN="North Carolina Serious Illness Coalition":MAILTO:info@ncsicoalition.org
END:VEVENT
END:VCALENDAR